BEGIN:VCALENDAR
VERSION:2.0
PRODID:-//Tukios.com/
BEGIN:VEVENT
UID:8ed5d878-cc7a-428a-83d0-5dbfb27af36d@www.smithfuneralandcremation.com
DTSTAMP:20260422T200058Z
DTSTART:20260504T190000Z
DTEND:20260504T200000Z
SUMMARY:Graveside Service
DESCRIPTION:
URL:https://www.smithfuneralandcremation.com/obituaries/frieda-anderson
LOCATION:Liberty Baptist Church 6501 Howard School Road  Maryville TN 
	37801
GEO:35.6265004;-84.134382
END:VEVENT
END:VCALENDAR