BEGIN:VCALENDAR
VERSION:2.0
PRODID:-//Tukios.com/
BEGIN:VEVENT
UID:3458c0d7-672c-45ff-94f4-1fbe68b52b8e@www.smithfuneralandcremation.com
DTSTAMP:20260423T193139Z
DTSTART:20260502T160000Z
DTEND:20260502T170000Z
SUMMARY:Memorial Service
DESCRIPTION:
URL:https://www.smithfuneralandcremation.com/obituaries/elizabeth-hemmings-nash
LOCATION: 2304 Tuckaleechee Pike  Maryville TN 37803
GEO:35.7496402;-83.9354259
END:VEVENT
END:VCALENDAR