BEGIN:VCALENDAR
VERSION:2.0
PRODID:-//Tukios.com/
BEGIN:VEVENT
UID:148684ea-ee46-42ef-8f82-6324349dec7d@www.smithfuneralandcremation.com
DTSTAMP:20260421T225729Z
DTSTART:20260424T190000Z
DTEND:20260424T200000Z
SUMMARY:Interment
DESCRIPTION:
URL:https://www.smithfuneralandcremation.com/obituaries/elizabeth-albright
LOCATION:Mt. Zion Baptist Church Cemetery 608 Ed Davis Road  Maryville TN 
	37801
GEO:35.7700851;-84.0513813
END:VEVENT
END:VCALENDAR