BEGIN:VCALENDAR
VERSION:2.0
PRODID:-//Tukios.com/
BEGIN:VEVENT
UID:4378ba11-8c01-41d9-a724-23e16af7da17@www.smithfuneralandcremation.com
DTSTAMP:20260421T225930Z
DTSTART:20260424T180000Z
DTEND:20260424T190000Z
SUMMARY:Funeral Service
DESCRIPTION:
URL:https://www.smithfuneralandcremation.com/obituaries/elizabeth-albright
LOCATION:Smith Trinity Chapel 1402 Tuckaleechee Pike  Maryville TN 37803
GEO:35.7542821;-83.9529263
END:VEVENT
END:VCALENDAR